BEGIN:VCALENDAR
PRODID:brasil.gov.agenda
VERSION:1.0
BEGIN:VEVENT
DTSTART:20210318T080000Z
DTEND:20210318T120000Z
DCREATED:20210318T113002Z
UID:Compromisso-6a2385ee55aa41579748dda925ef548c
SEQUENCE:0
LAST-MODIFIED:20210318T113002Z
SUMMARY:Despachos Internos
LOCATION:Reitoria
PRIORITY:3
TRANSP:0
END:VEVENT
END:VCALENDAR
