BEGIN:VCALENDAR
PRODID:brasil.gov.agenda
VERSION:1.0
BEGIN:VEVENT
DTSTART:20210318T160000Z
DTEND:20210318T180000Z
DCREATED:20210319T111842Z
UID:Compromisso-bce7cd8998404db295910db626148dbf
SEQUENCE:0
LAST-MODIFIED:20210319T111842Z
SUMMARY:Despachos Internos
LOCATION:Reitoria
PRIORITY:3
TRANSP:0
END:VEVENT
END:VCALENDAR
