BEGIN:VCALENDAR
PRODID:brasil.gov.agenda
VERSION:1.0
BEGIN:VEVENT
DTSTART:20210318T120000Z
DTEND:20210318T180000Z
DCREATED:20210318T113035Z
UID:Compromisso-e8f49273c471401ca756de6018665adc
SEQUENCE:0
LAST-MODIFIED:20210318T113035Z
SUMMARY:Despachos Internos
LOCATION:Reitoria
PRIORITY:3
TRANSP:0
END:VEVENT
END:VCALENDAR
