BEGIN:VCALENDAR
PRODID:brasil.gov.agenda
VERSION:1.0
BEGIN:VEVENT
DTSTART:20210317T143000Z
DTEND:20210317T150000Z
DCREATED:20210317T142002Z
UID:Compromisso-e1671f5e86904653a034909fcf7913a2
SEQUENCE:0
LAST-MODIFIED:20210317T142002Z
SUMMARY:Reunião com servidor técnico-administrativo
DESCRIPTION:Assunto particular
LOCATION:Reitoria
PRIORITY:3
TRANSP:0
END:VEVENT
END:VCALENDAR
