BEGIN:VCALENDAR
PRODID:brasil.gov.agenda
VERSION:1.0
BEGIN:VEVENT
DTSTART:20210317T150000Z
DTEND:20210317T170000Z
DCREATED:20210317T142310Z
UID:Compromisso-3a8219533fe6464fa0816b198f373ad9
SEQUENCE:0
LAST-MODIFIED:20210317T142310Z
SUMMARY:Reunião com a Secretaria dos Conselhos
DESCRIPTION:Organização da pauta do CONSU
LOCATION:Reitoria
PRIORITY:3
TRANSP:0
END:VEVENT
END:VCALENDAR
