BEGIN:VCALENDAR
PRODID:brasil.gov.agenda
VERSION:1.0
BEGIN:VEVENT
DTSTART:20210317T080000Z
DTEND:20210317T120000Z
DCREATED:20210317T141906Z
UID:Compromisso-e3d5153b2fbb44eb87fd01329991c5d6
SEQUENCE:0
LAST-MODIFIED:20210317T141906Z
SUMMARY:Despachos Internos
LOCATION:Reitoria
PRIORITY:3
TRANSP:0
END:VEVENT
END:VCALENDAR
