BEGIN:VCALENDAR
PRODID:brasil.gov.agenda
VERSION:1.0
BEGIN:VEVENT
DTSTART:20210316T140000Z
DTEND:20210316T160000Z
DCREATED:20210316T112606Z
UID:Compromisso-8f1b42ef886b4f799005fc7d63af59f2
SEQUENCE:0
LAST-MODIFIED:20210316T112609Z
SUMMARY:Reunião com a Secretaria dos Conselhos
DESCRIPTION:Organização da pauta do Consu
LOCATION:Reitoria
PRIORITY:3
TRANSP:0
END:VEVENT
END:VCALENDAR
