BEGIN:VCALENDAR
PRODID:brasil.gov.agenda
VERSION:1.0
BEGIN:VEVENT
DTSTART:20210315T080000Z
DTEND:20210315T090000Z
DCREATED:20210315T114638Z
UID:Compromisso-f8c56e43ebfe4cf683ad485926c18b08
SEQUENCE:0
LAST-MODIFIED:20210315T114638Z
SUMMARY:Reunião com a Direção da FAMED
DESCRIPTION:Organização da DEPE
LOCATION:Reitoria
PRIORITY:3
TRANSP:0
END:VEVENT
END:VCALENDAR
