BEGIN:VCALENDAR
PRODID:brasil.gov.agenda
VERSION:1.0
BEGIN:VEVENT
DTSTART:20210315T143000Z
DTEND:20210315T160000Z
DCREATED:20210315T114859Z
UID:Compromisso-0cabe7d612b14e16ba233cf745eed23f
SEQUENCE:0
LAST-MODIFIED:20210315T114859Z
SUMMARY:Reunião com a comissão  incumbida da elaboração do Plano de Integridade 2021 a 2023
LOCATION:Compromisso online
PRIORITY:3
TRANSP:0
END:VEVENT
END:VCALENDAR
