BEGIN:VCALENDAR
PRODID:brasil.gov.agenda
VERSION:1.0
BEGIN:VEVENT
DTSTART:20210315T100000Z
DTEND:20210315T120000Z
DCREATED:20210315T114803Z
UID:Compromisso-0d26765c280241d082fe9fac5637e3c3
SEQUENCE:0
LAST-MODIFIED:20210315T114804Z
SUMMARY:Despachos Internos
LOCATION:Reitoria
PRIORITY:3
TRANSP:0
END:VEVENT
END:VCALENDAR
