BEGIN:VCALENDAR
PRODID:brasil.gov.agenda
VERSION:1.0
BEGIN:VEVENT
DTSTART:20210315T170000Z
DTEND:20210315T180000Z
DCREATED:20210315T114921Z
UID:Compromisso-325c30c137e34feca9331fd529a9d324
SEQUENCE:0
LAST-MODIFIED:20210315T114921Z
SUMMARY:Despachos Internos
LOCATION:Reitoria
PRIORITY:3
TRANSP:0
END:VEVENT
END:VCALENDAR
