BEGIN:VCALENDAR
PRODID:brasil.gov.agenda
VERSION:1.0
BEGIN:VEVENT
DTSTART:20210311T150000Z
DTEND:20210311T160000Z
DCREATED:20210312T131511Z
UID:Compromisso-40cf60f385fc473c8a54a0590a960323
SEQUENCE:0
LAST-MODIFIED:20210312T131540Z
SUMMARY:Reunião Corregedoria Geral CGU
DESCRIPTION:Plano de ação do monitoramento das corregedorias
LOCATION:Compromisso online
PRIORITY:3
TRANSP:0
END:VEVENT
END:VCALENDAR
