BEGIN:VCALENDAR
PRODID:brasil.gov.agenda
VERSION:1.0
BEGIN:VEVENT
DTSTART:20210311T140000Z
DTEND:20210311T160000Z
DCREATED:20210311T114503Z
UID:Compromisso-59ddf4f24b014e8f88fccfde2a9bc00f
SEQUENCE:0
LAST-MODIFIED:20210311T114503Z
SUMMARY:Despachos Internos
LOCATION:Reitoria
PRIORITY:3
TRANSP:0
END:VEVENT
END:VCALENDAR
