BEGIN:VCALENDAR
PRODID:brasil.gov.agenda
VERSION:1.0
BEGIN:VEVENT
DTSTART:20210311T160000Z
DTEND:20210311T180000Z
DCREATED:20210311T114616Z
UID:Compromisso-1f7d9bbe5bee42d992bb97589d6b8dd6
SEQUENCE:0
LAST-MODIFIED:20210311T114616Z
SUMMARY:Cerimônia de posse reitora UFOP
LOCATION:Compromisso online
PRIORITY:3
TRANSP:0
END:VEVENT
END:VCALENDAR
