BEGIN:VCALENDAR
PRODID:brasil.gov.agenda
VERSION:1.0
BEGIN:VEVENT
DTSTART:20210309T143000Z
DTEND:20210309T150000Z
DCREATED:20210310T113454Z
UID:Compromisso-0152b1280f2d43ffa736dc7adabe9b0a
SEQUENCE:0
LAST-MODIFIED:20210310T114715Z
SUMMARY:Reunião  com servidor técnico administrativo
DESCRIPTION:Demanda pessoal
LOCATION:Reitoria
PRIORITY:3
TRANSP:0
END:VEVENT
END:VCALENDAR
