BEGIN:VCALENDAR
PRODID:brasil.gov.agenda
VERSION:1.0
BEGIN:VEVENT
DTSTART:20210309T080000Z
DTEND:20210309T120000Z
DCREATED:20210310T113256Z
UID:Compromisso-ea26e919c06e4a90bbe7a40c285aa217
SEQUENCE:0
LAST-MODIFIED:20210310T113257Z
SUMMARY:Despachos Internos
LOCATION:Reitoria
PRIORITY:3
TRANSP:0
END:VEVENT
END:VCALENDAR
