BEGIN:VCALENDAR
PRODID:brasil.gov.agenda
VERSION:1.0
BEGIN:VEVENT
DTSTART:20210309T150000Z
DTEND:20210309T180000Z
DCREATED:20210310T114822Z
UID:Compromisso-2b5d46f00f1745deac489648bb11bb62
SEQUENCE:0
LAST-MODIFIED:20210310T114822Z
SUMMARY:161ª reunião em caráter extraordinário do CONSEPE
LOCATION:Compromisso online
PRIORITY:3
TRANSP:0
END:VEVENT
END:VCALENDAR
