BEGIN:VCALENDAR
PRODID:brasil.gov.agenda
VERSION:1.0
BEGIN:VEVENT
DTSTART:20210308T143000Z
DTEND:20210308T153000Z
DCREATED:20210308T115521Z
UID:Compromisso-27d0bde9d4dc4390b96296f17e4af124
SEQUENCE:0
LAST-MODIFIED:20210308T115521Z
SUMMARY:Reunião com a Diretoria de Planejamento Institucional
DESCRIPTION:Avaliação de governança e gestão - TCU
LOCATION:Reitoria
PRIORITY:3
TRANSP:0
END:VEVENT
END:VCALENDAR
