BEGIN:VCALENDAR
PRODID:brasil.gov.agenda
VERSION:1.0
BEGIN:VEVENT
DTSTART:20210308T080000Z
DTEND:20210308T120000Z
DCREATED:20210308T114718Z
UID:Compromisso-b29983001a1f489d98ecc118b772a3c4
SEQUENCE:0
LAST-MODIFIED:20210308T114752Z
SUMMARY:Despacho Interno
LOCATION:Reitoria
PRIORITY:3
TRANSP:0
END:VEVENT
END:VCALENDAR
