BEGIN:VCALENDAR
PRODID:brasil.gov.agenda
VERSION:1.0
BEGIN:VEVENT
DTSTART:20210308T160000Z
DTEND:20210308T180000Z
DCREATED:20210308T115628Z
UID:Compromisso-93c92841b0a0439d84d54dc8a07035cf
SEQUENCE:0
LAST-MODIFIED:20210308T115628Z
SUMMARY:Despacho Interno
LOCATION:Reitoria
PRIORITY:3
TRANSP:0
END:VEVENT
END:VCALENDAR
