BEGIN:VCALENDAR
PRODID:brasil.gov.agenda
VERSION:1.0
BEGIN:VEVENT
DTSTART:20210305T143000Z
DTEND:20210305T153000Z
DCREATED:20210305T115823Z
UID:Compromisso-7e5aa5924df94d6dbc356fd98ff17db4
SEQUENCE:0
LAST-MODIFIED:20210305T115846Z
SUMMARY:Reunião comissão a incumbida da elaboração do Plano de Integridade 2021-2023
DESCRIPTION:Discussão da minuta
LOCATION:Compromisso on-line
PRIORITY:3
TRANSP:0
END:VEVENT
END:VCALENDAR
