BEGIN:VCALENDAR
PRODID:brasil.gov.agenda
VERSION:1.0
BEGIN:VEVENT
DTSTART:20210301T100000Z
DTEND:20210301T110000Z
DCREATED:20210301T164604Z
UID:Compromisso-945252fb841d4a8ea70242af1ab18f8f
SEQUENCE:0
LAST-MODIFIED:20210301T164731Z
SUMMARY:Reunião com a Faculdade de Ciências Agrárias (FCA)
DESCRIPTION:CIPEF,\n\nParceria do Professor Ricardo para produção de
  cachaça
LOCATION:Reitoria
PRIORITY:3
TRANSP:0
END:VEVENT
END:VCALENDAR
