BEGIN:VCALENDAR
PRODID:brasil.gov.agenda
VERSION:1.0
BEGIN:VEVENT
DTSTART:20210301T080000Z
DTEND:20210301T100000Z
DCREATED:20210301T164117Z
UID:Compromisso-5d1305bdf1854741acd9dd149fa39357
SEQUENCE:0
LAST-MODIFIED:20210301T164117Z
SUMMARY:Despachos Internos
LOCATION:Reitoria
PRIORITY:3
TRANSP:0
END:VEVENT
END:VCALENDAR
