BEGIN:VCALENDAR
PRODID:brasil.gov.agenda
VERSION:1.0
BEGIN:VEVENT
DTSTART:20210301T140000Z
DTEND:20210301T180000Z
DCREATED:20210301T164744Z
UID:Compromisso-371f1319fb99437089a01899ede14980
SEQUENCE:0
LAST-MODIFIED:20210301T164744Z
SUMMARY:Despachos Internos
LOCATION:Reitoria
PRIORITY:3
TRANSP:0
END:VEVENT
END:VCALENDAR
