BEGIN:VCALENDAR
PRODID:brasil.gov.agenda
VERSION:1.0
BEGIN:VEVENT
DTSTART:20210226T080000Z
DTEND:20210226T120000Z
DCREATED:20210226T145050Z
UID:Compromisso-eb616c8975594f0d9802292b226c5ed1
SEQUENCE:0
LAST-MODIFIED:20210226T145050Z
SUMMARY:Despachos Internos
LOCATION:Reitoria
PRIORITY:3
TRANSP:0
END:VEVENT
END:VCALENDAR
