BEGIN:VCALENDAR
PRODID:brasil.gov.agenda
VERSION:1.0
BEGIN:VEVENT
DTSTART:20210226T140000Z
DTEND:20210226T180000Z
DCREATED:20210226T145246Z
UID:Compromisso-da49e098fe8c4547a541734c9522a712
SEQUENCE:0
LAST-MODIFIED:20210226T145247Z
SUMMARY:160ª reunião em caráter ordinário do CONSEPE
LOCATION:Compromisso online
PRIORITY:3
TRANSP:0
END:VEVENT
END:VCALENDAR
