BEGIN:VCALENDAR
PRODID:brasil.gov.agenda
VERSION:1.0
BEGIN:VEVENT
DTSTART:20210225T090000Z
DTEND:20210225T100000Z
DCREATED:20210225T113926Z
UID:Compromisso-790921a7f7ea4a189d5d6a244f2fcf18
SEQUENCE:0
LAST-MODIFIED:20210225T113926Z
SUMMARY:Reunião com a Secretaria de Processo Administrativo (SecPad)
DESCRIPTION:Demandas internas
LOCATION:Reitoria
PRIORITY:3
TRANSP:0
END:VEVENT
END:VCALENDAR
