BEGIN:VCALENDAR
PRODID:brasil.gov.agenda
VERSION:1.0
BEGIN:VEVENT
DTSTART:20210225T080000Z
DTEND:20210225T090000Z
DCREATED:20210225T113835Z
UID:Compromisso-c92f6c9d5b0140429f7d730e0ddce1ea
SEQUENCE:0
LAST-MODIFIED:20210225T113836Z
SUMMARY:Despachos Internos
LOCATION:Reitoria
PRIORITY:3
TRANSP:0
END:VEVENT
END:VCALENDAR
