BEGIN:VCALENDAR
PRODID:brasil.gov.agenda
VERSION:1.0
BEGIN:VEVENT
DTSTART:20210224T150000Z
DTEND:20210224T160000Z
DCREATED:20210225T114258Z
UID:Compromisso-30ea6262dfc34539820e33f2e513e869
SEQUENCE:0
LAST-MODIFIED:20210225T114258Z
SUMMARY:Reunião com a Chefia do Departamento de Odontologia
DESCRIPTION:Demanda interna
LOCATION:Reitoria
PRIORITY:3
TRANSP:0
END:VEVENT
END:VCALENDAR
