BEGIN:VCALENDAR
PRODID:brasil.gov.agenda
VERSION:1.0
BEGIN:VEVENT
DTSTART:20210224T080000Z
DTEND:20210224T120000Z
DCREATED:20210225T114141Z
UID:Compromisso-a4a47f361f174481932b84b2db524c91
SEQUENCE:0
LAST-MODIFIED:20210225T114142Z
SUMMARY:Despachos Internos
LOCATION:Reitoria
PRIORITY:3
TRANSP:0
END:VEVENT
END:VCALENDAR
