BEGIN:VCALENDAR
PRODID:brasil.gov.agenda
VERSION:1.0
BEGIN:VEVENT
DTSTART:20210224T160000Z
DTEND:20210224T180000Z
DCREATED:20210225T114338Z
UID:Compromisso-46b2cff587ff46beb71875f300409aff
SEQUENCE:0
LAST-MODIFIED:20210225T114339Z
SUMMARY:Despachos Internos
LOCATION:Reitoria
PRIORITY:3
TRANSP:0
END:VEVENT
END:VCALENDAR
