BEGIN:VCALENDAR
PRODID:brasil.gov.agenda
VERSION:1.0
BEGIN:VEVENT
DTSTART:20210224T140000Z
DTEND:20210224T141500Z
DCREATED:20210225T114207Z
UID:Compromisso-25c25895b8b8452587d080b0d4c6cc0a
SEQUENCE:0
LAST-MODIFIED:20210225T114207Z
SUMMARY:Colação de grau posterior
LOCATION:Reitoria
PRIORITY:3
TRANSP:0
END:VEVENT
END:VCALENDAR
