BEGIN:VCALENDAR
PRODID:brasil.gov.agenda
VERSION:1.0
BEGIN:VEVENT
DTSTART:20210219T080000Z
DTEND:20210219T100000Z
DCREATED:20210219T121347Z
UID:Compromisso-dd7d5c4857e049a3b4265021de824a2e
SEQUENCE:0
LAST-MODIFIED:20210219T121347Z
SUMMARY:Despachos Internos
LOCATION:Reitoria
PRIORITY:3
TRANSP:0
END:VEVENT
END:VCALENDAR
