BEGIN:VCALENDAR
PRODID:brasil.gov.agenda
VERSION:1.0
BEGIN:VEVENT
DTSTART:20210219T100000Z
DTEND:20210219T120000Z
DCREATED:20210218T162414Z
UID:Compromisso-28ccb295e3b348678bfeeb691fc8538f
SEQUENCE:0
LAST-MODIFIED:20210218T162415Z
SUMMARY:231ª reunião\, sendo a 90ª sessão em caráter extraordinário do CONSU
LOCATION:Compromisso online
PRIORITY:3
TRANSP:0
END:VEVENT
END:VCALENDAR
