BEGIN:VCALENDAR
PRODID:brasil.gov.agenda
VERSION:1.0
BEGIN:VEVENT
DTSTART:20210209T140000Z
DTEND:20210209T150000Z
DCREATED:20210209T112900Z
UID:Compromisso-c5e67e828d9f4938927a70473ccde5b0
SEQUENCE:0
LAST-MODIFIED:20210209T112900Z
SUMMARY:Reunião com a Secretaria de Processo Administrativo (SecPad)
LOCATION:Reitoria
PRIORITY:3
TRANSP:0
END:VEVENT
END:VCALENDAR
