BEGIN:VCALENDAR
PRODID:brasil.gov.agenda
VERSION:1.0
BEGIN:VEVENT
DTSTART:20210205T140000Z
DTEND:20210205T180000Z
DCREATED:20210205T111357Z
UID:Compromisso-0b8a274e1b7a4f65befcb78843fb5759
SEQUENCE:0
LAST-MODIFIED:20210205T111357Z
SUMMARY:Despachos Internos
LOCATION:Reitoria
PRIORITY:3
TRANSP:0
END:VEVENT
END:VCALENDAR
