BEGIN:VCALENDAR
PRODID:brasil.gov.agenda
VERSION:1.0
BEGIN:VEVENT
DTSTART:20210204T080000Z
DTEND:20210204T120000Z
DCREATED:20210204T123654Z
UID:Compromisso-3d4cc990fe99468788fd4ab3c7866838
SEQUENCE:0
LAST-MODIFIED:20210204T123654Z
SUMMARY:Despachos Internos
LOCATION:Reitoria
PRIORITY:3
TRANSP:0
END:VEVENT
END:VCALENDAR
