BEGIN:VCALENDAR
PRODID:brasil.gov.agenda
VERSION:1.0
BEGIN:VEVENT
DTSTART:20210203T143000Z
DTEND:20210203T150000Z
DCREATED:20210203T131753Z
UID:Compromisso-9d8a5b3dcc0d46b4bb7d26dac0c39265
SEQUENCE:0
LAST-MODIFIED:20210203T131753Z
SUMMARY:Sessão de posse
LOCATION:Reitoria
PRIORITY:3
TRANSP:0
END:VEVENT
END:VCALENDAR
