BEGIN:VCALENDAR
PRODID:brasil.gov.agenda
VERSION:1.0
BEGIN:VEVENT
DTSTART:20210203T150000Z
DTEND:20210203T180000Z
DCREATED:20210203T131813Z
UID:Compromisso-96739fe28b1f4edab92b6b402b7d4cd2
SEQUENCE:0
LAST-MODIFIED:20210203T131813Z
SUMMARY:Despachos Internos
LOCATION:Reitoria
PRIORITY:3
TRANSP:0
END:VEVENT
END:VCALENDAR
