BEGIN:VCALENDAR
PRODID:brasil.gov.agenda
VERSION:1.0
BEGIN:VEVENT
DTSTART:20210202T080000Z
DTEND:20210202T120000Z
DCREATED:20210202T115015Z
UID:Compromisso-e3ff123bf3c048af8d2374ac49af3cc9
SEQUENCE:0
LAST-MODIFIED:20210202T115015Z
SUMMARY:Despachos Internos
LOCATION:Reitoria
PRIORITY:3
TRANSP:0
END:VEVENT
END:VCALENDAR
