BEGIN:VCALENDAR
PRODID:brasil.gov.agenda
VERSION:1.0
BEGIN:VEVENT
DTSTART:20210128T000000Z
DTEND:20210128T000000Z
DCREATED:20210127T173025Z
UID:Compromisso-82223984e70b4cb593e8bf466896384f
SEQUENCE:0
LAST-MODIFIED:20210127T173025Z
SUMMARY:Férias regulamentares
PRIORITY:3
TRANSP:0
END:VEVENT
END:VCALENDAR
