BEGIN:VCALENDAR
PRODID:brasil.gov.agenda
VERSION:1.0
BEGIN:VEVENT
DTSTART:20210126T000000Z
DTEND:20210125T000000Z
DCREATED:20210125T171113Z
UID:Compromisso-a638aa06730646be9cbb9206ee4ca4d2
SEQUENCE:0
LAST-MODIFIED:20210125T171113Z
SUMMARY:Férias regulamentares
PRIORITY:3
TRANSP:0
END:VEVENT
END:VCALENDAR
