BEGIN:VCALENDAR
PRODID:brasil.gov.agenda
VERSION:1.0
BEGIN:VEVENT
DTSTART:20210125T000000Z
DTEND:20210125T000000Z
DCREATED:20210125T170902Z
UID:Compromisso-062c3a6537a2421a9bd22265863576b2
SEQUENCE:0
LAST-MODIFIED:20210125T170902Z
SUMMARY:Férias regulamentares
PRIORITY:3
TRANSP:0
END:VEVENT
END:VCALENDAR
