BEGIN:VCALENDAR
PRODID:brasil.gov.agenda
VERSION:1.0
BEGIN:VEVENT
DTSTART:20210121T140000Z
DTEND:20210121T150000Z
DCREATED:20210121T121551Z
UID:Compromisso-609ebb3b8fb74745a1e2ab31b9e8180a
SEQUENCE:0
LAST-MODIFIED:20210121T121637Z
SUMMARY:Reunião com a Pró- reitoria de Graduação\, secretaria do Consu e demais envolvidos
DESCRIPTION:Colação de grau remota
LOCATION:Compromisso online
PRIORITY:3
TRANSP:0
END:VEVENT
END:VCALENDAR
