BEGIN:VCALENDAR
PRODID:brasil.gov.agenda
VERSION:1.0
BEGIN:VEVENT
DTSTART:20210121T153000Z
DTEND:20210121T180000Z
DCREATED:20210121T121759Z
UID:Compromisso-fef66ec76b64454ea9f6284606325c75
SEQUENCE:0
LAST-MODIFIED:20210121T121759Z
SUMMARY:Reunião com a Secretaria de Processo Administrativo (SecPad)
DESCRIPTION:Demandas da secretaria
LOCATION:Reitoria
PRIORITY:3
TRANSP:0
END:VEVENT
END:VCALENDAR
