BEGIN:VCALENDAR
PRODID:brasil.gov.agenda
VERSION:1.0
BEGIN:VEVENT
DTSTART:20210121T100000Z
DTEND:20210121T120000Z
DCREATED:20210121T121323Z
UID:Compromisso-5de0827a163649fdbda719f63cd89a51
SEQUENCE:0
LAST-MODIFIED:20210121T121323Z
SUMMARY:Despachos Internos
LOCATION:Reitoria
PRIORITY:3
TRANSP:0
END:VEVENT
END:VCALENDAR
