BEGIN:VCALENDAR
PRODID:brasil.gov.agenda
VERSION:1.0
BEGIN:VEVENT
DTSTART:20210120T080000Z
DTEND:20210120T120000Z
DCREATED:20210120T125412Z
UID:Compromisso-91e2bd03c89a4313bdb54208ceaf2f91
SEQUENCE:0
LAST-MODIFIED:20210120T125412Z
SUMMARY:Despachos Internos
LOCATION:Reitoria
PRIORITY:3
TRANSP:0
END:VEVENT
END:VCALENDAR
