BEGIN:VCALENDAR
PRODID:brasil.gov.agenda
VERSION:1.0
BEGIN:VEVENT
DTSTART:20210119T140000Z
DTEND:20210119T162900Z
DCREATED:20210119T114931Z
UID:Compromisso-d9fb0abc7b50466b948615098bd964ec
SEQUENCE:0
LAST-MODIFIED:20210119T114931Z
SUMMARY:Despachos Internos
LOCATION:Reitoria
PRIORITY:3
TRANSP:0
END:VEVENT
END:VCALENDAR
