BEGIN:VCALENDAR
PRODID:brasil.gov.agenda
VERSION:1.0
BEGIN:VEVENT
DTSTART:20210115T080000Z
DTEND:20210115T120000Z
DCREATED:20210115T171545Z
UID:Compromisso-0ce257b6810e459b9cb3501c7f581d2c
SEQUENCE:0
LAST-MODIFIED:20210115T171545Z
SUMMARY:Despachos Internos
LOCATION:Reitoria
PRIORITY:3
TRANSP:0
END:VEVENT
END:VCALENDAR
