BEGIN:VCALENDAR
PRODID:brasil.gov.agenda
VERSION:1.0
BEGIN:VEVENT
DTSTART:20210115T170000Z
DTEND:20210115T180000Z
DCREATED:20210115T174439Z
UID:Compromisso-ecdcfee40e9e4baba9160dab2fd879ef
SEQUENCE:0
LAST-MODIFIED:20210115T174439Z
SUMMARY:Despachos Internos
LOCATION:Reitoria
PRIORITY:3
TRANSP:0
END:VEVENT
END:VCALENDAR
